BEGIN:VCALENDAR
VERSION:2.0
PRODID:icalendar-ruby
CALSCALE:GREGORIAN
METHOD:PUBLISH
BEGIN:VEVENT
DTSTAMP:20260424T223925Z
UID:7-1295151@ecclesiatricities.church
DTSTART:20260926T003000Z
DTEND:20260926T030000Z
CLASS:PUBLIC
CREATED:20260424T141022
DESCRIPTION:
LAST-MODIFIED:20260424T141022
LOCATION:Gateway Church in Kennewick
SUMMARY:Friday Night Worship
URL;VALUE=URI:https://www.ecclesiatricities.church/events/friday-night-wors
 hip/2026-09-25
ATTACH;FILENAME=Ecclesia.png;FMTTYPE=image/png:https://dq5pwpg1q8ru0.cloudf
 ront.net/2026/03/03/21/40/33/2e2b4c71-e0e5-450d-9d8a-8253fe6cffcd/Ecclesia
 .png
END:VEVENT
END:VCALENDAR
